BEGIN:VCALENDAR
VERSION:2.0
PRODID:-//Academy 4 Lil' Angels - ECPv6.15.17.1//NONSGML v1.0//EN
CALSCALE:GREGORIAN
METHOD:PUBLISH
X-WR-CALNAME:Academy 4 Lil' Angels
X-ORIGINAL-URL:https://www.academy4lilangels.com
X-WR-CALDESC:Events for Academy 4 Lil' Angels
REFRESH-INTERVAL;VALUE=DURATION:PT1H
X-Robots-Tag:noindex
X-PUBLISHED-TTL:PT1H
BEGIN:VTIMEZONE
TZID:America/Detroit
BEGIN:DAYLIGHT
TZOFFSETFROM:-0500
TZOFFSETTO:-0400
TZNAME:EDT
DTSTART:20210314T070000
END:DAYLIGHT
BEGIN:STANDARD
TZOFFSETFROM:-0400
TZOFFSETTO:-0500
TZNAME:EST
DTSTART:20211107T060000
END:STANDARD
BEGIN:DAYLIGHT
TZOFFSETFROM:-0500
TZOFFSETTO:-0400
TZNAME:EDT
DTSTART:20220313T070000
END:DAYLIGHT
BEGIN:STANDARD
TZOFFSETFROM:-0400
TZOFFSETTO:-0500
TZNAME:EST
DTSTART:20221106T060000
END:STANDARD
BEGIN:DAYLIGHT
TZOFFSETFROM:-0500
TZOFFSETTO:-0400
TZNAME:EDT
DTSTART:20230312T070000
END:DAYLIGHT
BEGIN:STANDARD
TZOFFSETFROM:-0400
TZOFFSETTO:-0500
TZNAME:EST
DTSTART:20231105T060000
END:STANDARD
END:VTIMEZONE
BEGIN:VEVENT
DTSTART;TZID=America/Detroit:20220806T140000
DTEND;TZID=America/Detroit:20220806T200000
DTSTAMP:20260423T155640
CREATED:20220707T142718Z
LAST-MODIFIED:20230409T191350Z
UID:3970-1659794400-1659816000@www.academy4lilangels.com
SUMMARY:17th Annual Golf Fundraiser
DESCRIPTION:Academy 4 Lil’ Angels and Parkinson’s Foundation present our 17th ANNUAL GOLF FUNDRAISER! Join us for an afternoon of golf\, while supporting a great cause. Over the years this event has raised over $20\,000\, with proceeds benefiting Parkinson’s Foundation. \nYour registration fee includes 18 holes of golf with cart\, lunch and dinner\, and an opportunity to win prizes. Our host\, Sycamore Hills is a championship course designed by master golf architect Jerry Matthews. The three 9-hole courses at Sycamore Hills offer a diversified challenge to any golf enthusiast seldom found in one location. Whether you are playing the South\, West\, or North Courses\, you will find it extremely hard to keep your head down amidst the scenic natural beauty of the “Sycamore” trees\, lakes\, rivers and our Scottish “Hills.” \nRegistration includes:\n• 18 Holes of golf with cart\n• Hot dog and chips at turn\n• Dinner buffet\n• Beer and pop on tickets for the course\n• Closest to the pin men/women\n• Longest drive men/women\n• Putting contest (win a golf bag!)\n• Marshmallow drive (win a putter!) \nOther games to win raffle prizes include: 50/50\, Skins\, Raffle\, Lottery tree. \n  \nHole Sponsorship:\nWe are are currently offering hole sponsors for the fundraiser. If you are a local business or individual in and around Macomb County and would like to contribute towards this cause\, we invite you to participate! Sponsorship is $250 per hole. Please contact Ms. Angie at (586) 532-6666 or email angie@academy4lilangels.com.
URL:https://www.academy4lilangels.com/event/17th-annual-golf-fundraiser/
LOCATION:Sycamore Hills Golf Club\, 48787 North Ave\, Macomb\, MI\, 48042\, United States
ATTACH;FMTTYPE=image/png:https://www.academy4lilangels.com/wp-content/uploads/2022/07/Academy_Golf-Fundraiser_Web-Graphic.png
END:VEVENT
END:VCALENDAR